BEGIN:VCALENDAR
VERSION:2.0
PRODID:-//Squarespace Inc/Squarespace 6//v6//EN
BEGIN:VEVENT
UID:5e5ee65ba9b3a37966517c10@squarespace.com
DTSTAMP:20200303T232318Z
DTSTART:20200523T190000Z
DTEND:20200524T030000Z
SUMMARY:Manawatu Striders - Property Brokers Marathon &amp\; Half Marathon\
 , 10km\, 5km and MaraFUN
END:VEVENT
END:VCALENDAR
