BEGIN:VCALENDAR
VERSION:2.0
PRODID:-//Squarespace Inc/Squarespace 6//v6//EN
BEGIN:VEVENT
UID:5e5ee6f5223e402cf6f47936@squarespace.com
DTSTAMP:20200303T232545Z
DTSTART:20200323T233000Z
DTEND:20200324T013000Z
SUMMARY:Manawatu Striders Schools Road Race 2020
END:VEVENT
END:VCALENDAR
