BEGIN:VCALENDAR
VERSION:2.0
PRODID:-//Squarespace Inc/Squarespace 6//v6//EN
BEGIN:VEVENT
UID:5d893e288d2eb93d33c60357@squarespace.com
DTSTAMP:20190923T215954Z
DTSTART:20190924T061500Z
DTEND:20190924T071500Z
SUMMARY:Club Run/Walk
END:VEVENT
END:VCALENDAR
