BEGIN:VCALENDAR
VERSION:2.0
PRODID:-//Squarespace Inc/Squarespace 6//v6//EN
BEGIN:VEVENT
UID:5d89408512ff5334c05a1c20@squarespace.com
DTSTAMP:20190923T220105Z
DTSTART:20191001T051500Z
DTEND:20191001T061500Z
SUMMARY:Club Run/Walk
END:VEVENT
END:VCALENDAR
