BEGIN:VCALENDAR
VERSION:2.0
PRODID:-//Squarespace Inc/Squarespace 6//v6//EN
BEGIN:VEVENT
UID:5d893cf58d2eb93d33c5e20d@squarespace.com
DTSTAMP:20190923T215129Z
DTSTART:20191116T180000Z
DTEND:20191116T230000Z
SUMMARY:Ashhurst to Esplanade 21km\, 12km\, 3km Run and Walk 
END:VEVENT
END:VCALENDAR
