BEGIN:VCALENDAR
VERSION:2.0
PRODID:-//Squarespace Inc/Squarespace 6//v6//EN
BEGIN:VEVENT
UID:5c6398e68165f519cbbc071a@squarespace.com
DTSTAMP:20190213T042408Z
DTSTART:20190525T190000Z
DTEND:20190526T030000Z
SUMMARY:Manawatu Striders Property Brokers Marathon\, Half Marathon\, 10km 
 and 5km 
END:VEVENT
END:VCALENDAR
