BEGIN:VCALENDAR
VERSION:2.0
PRODID:-//Squarespace Inc/Squarespace 6//v6//EN
BEGIN:VEVENT
UID:5c6496746e9a7f793a279e1f@squarespace.com
DTSTAMP:20190213T221700Z
DTSTART:20190302T190000Z
DTEND:20190302T220000Z
SUMMARY:Club Open Day
END:VEVENT
END:VCALENDAR
