BEGIN:VCALENDAR
VERSION:2.0
PRODID:-//Squarespace Inc/Squarespace 6//v6//EN
BEGIN:VEVENT
UID:5bff9f1f575d1fcc094b7742@squarespace.com
DTSTAMP:20181129T083741Z
DTSTART:20190115T051500Z
DTEND:20190115T070000Z
SUMMARY:Super Sevens - Week One
GEO:-40.367068;175.615479
LOCATION:YMCA\,\, 148 Park Road\, Palmerston North\, Manawatu-Wanganui\, 44
 10\, New Zealand
END:VEVENT
END:VCALENDAR
