BEGIN:VCALENDAR
VERSION:2.0
PRODID:-//Squarespace Inc/Squarespace 6//v6//EN
BEGIN:VEVENT
UID:5bffa5550ebbe8bc1dd1a4cf@squarespace.com
DTSTAMP:20181129T083919Z
DTSTART:20190129T051500Z
DTEND:20190129T070000Z
SUMMARY:Super Sevens - Week Three
GEO:-40.367068;175.615479
LOCATION:YMCA\,\, 148 Park Road\, Palmerston North\, Manawatu-Wanganui\, 44
 10\, New Zealand
END:VEVENT
END:VCALENDAR
