BEGIN:VCALENDAR
VERSION:2.0
PRODID:-//Squarespace Inc/Squarespace 6//v6//EN
BEGIN:VEVENT
UID:5bffa62140ec9a01d4b50576@squarespace.com
DTSTAMP:20181129T084117Z
DTSTART:20190212T051500Z
DTEND:20190212T070000Z
SUMMARY:Super Sevens - Week Five
GEO:-40.367068;175.615479
LOCATION:YMCA\,\, 148 Park Road\, Palmerston North\, Manawatu-Wanganui\, 44
 10\, New Zealand
END:VEVENT
END:VCALENDAR
