BEGIN:VCALENDAR
VERSION:2.0
PRODID:-//Squarespace Inc/Squarespace 6//v6//EN
BEGIN:VEVENT
UID:5bffa65d0ebbe8bc1dd1abee@squarespace.com
DTSTAMP:20181129T084220Z
DTSTART:20190226T051500Z
DTEND:20190226T070000Z
SUMMARY:Super Sevens - Week Seven
GEO:-40.367068;175.615479
LOCATION:YMCA\,\, 148 Park Road\, Palmerston North\, Manawatu-Wanganui\, 44
 10\, New Zealand
END:VEVENT
END:VCALENDAR
