BEGIN:VCALENDAR
VERSION:2.0
PRODID:-//Squarespace Inc/Squarespace 6//v6//EN
BEGIN:VEVENT
UID:5ae2794a758d461ffb6169b8@squarespace.com
DTSTAMP:20180427T011903Z
DTSTART:20180707T070000Z
DTEND:20180707T100000Z
SUMMARY:Quiz Night for Club Members
END:VEVENT
END:VCALENDAR
