BEGIN:VCALENDAR
VERSION:2.0
PRODID:-//Squarespace Inc/Squarespace 6//v6//EN
BEGIN:VEVENT
UID:5ae27b31562fa77dfd89dd98@squarespace.com
DTSTAMP:20180427T013001Z
DTSTART:20180519T200000Z
DTEND:20180519T223000Z
SUMMARY:Members Only - Helpers Half
END:VEVENT
END:VCALENDAR
