BEGIN:VCALENDAR
VERSION:2.0
PRODID:-//Squarespace Inc/Squarespace 6//v6//EN
BEGIN:VEVENT
UID:59326938f7e0ab1d20cd3941@squarespace.com
DTSTAMP:20170622T031829Z
DTSTART:20170908T200000Z
DTEND:20170908T210000Z
SUMMARY:Marton to Whanganui Relay - Marton 
END:VEVENT
END:VCALENDAR
