BEGIN:VCALENDAR
VERSION:2.0
PRODID:-//Squarespace Inc/Squarespace 6//v6//EN
BEGIN:VEVENT
UID:5932690820099e03f473cffc@squarespace.com
DTSTAMP:20170622T031815Z
DTSTART:20170902T013000Z
DTEND:20170902T023000Z
SUMMARY:Moas host Striders handicap Road Race - Stewart Road Feilding 
END:VEVENT
END:VCALENDAR
