BEGIN:VCALENDAR
VERSION:2.0
PRODID:-//Squarespace Inc/Squarespace 6//v6//EN
BEGIN:VEVENT
UID:5932695b6b8f5b251c7e6e92@squarespace.com
DTSTAMP:20170622T031845Z
DTSTART:20170916T013000Z
DTEND:20170916T023000Z
SUMMARY:Club Road Championships - TBA - Annual Prizegiving 
END:VEVENT
END:VCALENDAR
