BEGIN:VCALENDAR
VERSION:2.0
PRODID:-//Squarespace Inc/Squarespace 6//v6//EN
BEGIN:VEVENT
UID:593267f23e00bef2b822fb33@squarespace.com
DTSTAMP:20170810T020730Z
DTSTART:20170804T200000Z
DTEND:20170804T210000Z
SUMMARY:Halcombe Relay - Halcombe Hall 
END:VEVENT
END:VCALENDAR
