BEGIN:VCALENDAR
VERSION:2.0
PRODID:-//Squarespace Inc/Squarespace 6//v6//EN
BEGIN:VEVENT
UID:593268cc29687f920d4b5050@squarespace.com
DTSTAMP:20170622T031753Z
DTSTART:20170826T013000Z
DTEND:20170826T023000Z
SUMMARY:Moas Turkey Trot - Timona Park 
END:VEVENT
END:VCALENDAR
