BEGIN:VCALENDAR
VERSION:2.0
PRODID:-//Squarespace Inc/Squarespace 6//v6//EN
BEGIN:VEVENT
UID:5932686803596ee24d1f266e@squarespace.com
DTSTAMP:20170622T031720Z
DTSTART:20170812T013000Z
DTEND:20170812T023000Z
SUMMARY:Moas host Striders Road Pack Run/Walk - Ashhurst Domain 
END:VEVENT
END:VCALENDAR
