BEGIN:VCALENDAR
VERSION:2.0
PRODID:-//Squarespace Inc/Squarespace 6//v6//EN
BEGIN:VEVENT
UID:59326710e6f2e1aaf291b8d5@squarespace.com
DTSTAMP:20170810T020959Z
DTSTART:20170729T013000Z
DTEND:20170729T023000Z
SUMMARY:Moas hosts Striders Road Race - Port Street\, Feilding 
END:VEVENT
END:VCALENDAR
