BEGIN:VCALENDAR
VERSION:2.0
PRODID:-//Squarespace Inc/Squarespace 6//v6//EN
BEGIN:VEVENT
UID:596c1d72914e6bd0deea4574@squarespace.com
DTSTAMP:20170810T025912Z
DTSTART:20170720T061500Z
DTEND:20170720T071500Z
SUMMARY:Thursday Night Group Walk - Meet 6.15pm - Manawatu Hockey Carpark.
END:VEVENT
END:VCALENDAR
