BEGIN:VCALENDAR
VERSION:2.0
PRODID:-//Squarespace Inc/Squarespace 6//v6//EN
BEGIN:VEVENT
UID:598bcc00a5790abbb4468e9b@squarespace.com
DTSTAMP:20170810T030005Z
DTSTART:20170817T061500Z
DTEND:20170817T071500Z
SUMMARY:Thursday Night Group Walk 
END:VEVENT
END:VCALENDAR
