BEGIN:VCALENDAR
VERSION:2.0
PRODID:-//Squarespace Inc/Squarespace 6//v6//EN
BEGIN:VEVENT
UID:593266552e69cfa700d72352@squarespace.com
DTSTAMP:20170810T020442Z
DTSTART:20170714T200000Z
DTEND:20170714T210000Z
SUMMARY:Manawatu / Whanganui Cross Country Championships - Whanganui 
END:VEVENT
END:VCALENDAR
