BEGIN:VCALENDAR
VERSION:2.0
PRODID:-//Squarespace Inc/Squarespace 6//v6//EN
BEGIN:VEVENT
UID:59519b812e69cf1382c2d1c7@squarespace.com
DTSTAMP:20170626T235512Z
DTSTART:20170715T063000Z
DTEND:20170715T083000Z
SUMMARY:Manawatu Striders Mid Year Asian Banquet
END:VEVENT
END:VCALENDAR
