BEGIN:VCALENDAR
VERSION:2.0
PRODID:-//Squarespace Inc/Squarespace 6//v6//EN
BEGIN:VEVENT
UID:5932652e1b631bc6dd0ff82d@squarespace.com
DTSTAMP:20170622T031531Z
DTSTART:20170701T013000Z
DTEND:20170701T023000Z
SUMMARY:Pack Run/Walk - Ashhurst Domain 
END:VEVENT
END:VCALENDAR
