BEGIN:VCALENDAR
VERSION:2.0
PRODID:-//Squarespace Inc/Squarespace 6//v6//EN
BEGIN:VEVENT
UID:59325d7d2994ca091a5278e3@squarespace.com
DTSTAMP:20170628T104746Z
DTSTART:20170603T013000Z
DTEND:20170603T023000Z
SUMMARY:Club Opening - Cross Country Run/Walk - Massey University
END:VEVENT
END:VCALENDAR
