BEGIN:VCALENDAR
VERSION:2.0
PRODID:-//Squarespace Inc/Squarespace 6//v6//EN
BEGIN:VEVENT
UID:594b37cb2994ca81bb54c3e4@squarespace.com
DTSTAMP:20170626T235931Z
DTSTART:20170627T053000Z
DTEND:20170627T063000Z
SUMMARY:Tuesday Night Dash
END:VEVENT
END:VCALENDAR
