BEGIN:VCALENDAR
VERSION:2.0
PRODID:-//Squarespace Inc/Squarespace 6//v6//EN
BEGIN:VEVENT
UID:596c1dacf5e2310ce00e736a@squarespace.com
DTSTAMP:20170717T030816Z
DTSTART:20170718T054500Z
DTEND:20170718T064500Z
SUMMARY:Tuesday Night Dash
END:VEVENT
END:VCALENDAR
