BEGIN:VCALENDAR
VERSION:2.0
PRODID:-//Squarespace Inc/Squarespace 6//v6//EN
BEGIN:VEVENT
UID:598bc804c534a55657afe435@squarespace.com
DTSTAMP:20170814T061413Z
DTSTART:20170815T054500Z
DTEND:20170815T064500Z
SUMMARY:Tuesday Night Dash and Walking Group 
END:VEVENT
END:VCALENDAR
