BEGIN:VCALENDAR
VERSION:2.0
PRODID:-//Squarespace Inc/Squarespace 6//v6//EN
BEGIN:VEVENT
UID:593264e1414fb5f84c770115@squarespace.com
DTSTAMP:20170627T063513Z
DTSTART:20170624T013000Z
DTEND:20170624T023000Z
SUMMARY:Cross Country Club Relay - Mangaone Park 
END:VEVENT
END:VCALENDAR
