BEGIN:VCALENDAR
VERSION:2.0
PRODID:-//Squarespace Inc/Squarespace 6//v6//EN
BEGIN:VEVENT
UID:59328052e58c62b10158d360@squarespace.com
DTSTAMP:20170622T032000Z
DTSTART:20170527T200000Z
DTEND:20170527T210000Z
SUMMARY:Manawatu Striders Full / Half Marathon / 10k / 5k
END:VEVENT
END:VCALENDAR
